BEGIN:VCALENDAR
VERSION:2.0
PRODID:-//Kino Tuškanac//Filmski programi//HR
BEGIN:VEVENT
UID:db65930724bf58da8cbbb29b362400e2@kinotuskanac.hr
DTSTAMP:20260421T182422Z
DTSTART:20201216T190000
DTEND:20201216T210000
SUMMARY:Izgubljeni horizont
LOCATION:Kino Tuškanac
DESCRIPTION:Lost Horizon, SAD, 1937 | Mjesto prikazivanja filma: Centar za kulturu Histrionski dom (Ilica 90) R: Frank Capra
END:VEVENT
END:VCALENDAR