BEGIN:VCALENDAR
VERSION:2.0
PRODID:-//Kino Tuškanac//Filmski programi//HR
BEGIN:VEVENT
UID:0dae914822173927cc990e05caa35a33@kinotuskanac.hr
DTSTAMP:20260421T215800Z
DTSTART:20201228T190000
DTEND:20201228T210000
SUMMARY:Čekić za vještice
LOCATION:Kino Tuškanac
DESCRIPTION:Kladivo na čarodějnice, Čehoslovačka, 1970 R: Otakar Vávra
END:VEVENT
END:VCALENDAR