BEGIN:VCALENDAR
VERSION:2.0
PRODID:-//Kino Tuškanac//Filmski programi//HR
BEGIN:VEVENT
UID:fff6226dffddca598df62acf12c3164f@kinotuskanac.hr
DTSTAMP:20260422T061059Z
DTSTART:20210121T190000
DTEND:20210121T210000
SUMMARY:Praznični dan
LOCATION:Kino Tuškanac
DESCRIPTION:Jour de fête, Francuska, 1949 R: Jacques Tati
END:VEVENT
END:VCALENDAR