BEGIN:VCALENDAR
VERSION:2.0
PRODID:-//Kino Tuškanac//Filmski programi//HR
BEGIN:VEVENT
UID:85825df24ccb9bb66382179b1f5fb55f@kinotuskanac.hr
DTSTAMP:20260421T134207Z
DTSTART:20210129T190000
DTEND:20210129T210000
SUMMARY:Veličanstvena opsesija
LOCATION:Kino Tuškanac
DESCRIPTION:Magnificent Obsession, SAD, 1954 R: Douglas Sirk
END:VEVENT
END:VCALENDAR