BEGIN:VCALENDAR
VERSION:2.0
PRODID:-//Kino Tuškanac//Filmski programi//HR
BEGIN:VEVENT
UID:6d52010b64132a5d7a9a5468933d0b43@kinotuskanac.hr
DTSTAMP:20260421T135335Z
DTSTART:20210131T190000
DTEND:20210131T210000
SUMMARY:Doba ljubavi i doba smrti
LOCATION:Kino Tuškanac
DESCRIPTION:A Time to Love and a Time to Die, SAD, 1958 R: Douglas Sirk
END:VEVENT
END:VCALENDAR