BEGIN:VCALENDAR
VERSION:2.0
PRODID:-//Kino Tuškanac//Filmski programi//HR
BEGIN:VEVENT
UID:15cb636e112e42a4bfcdc0cd890f6c6f@kinotuskanac.hr
DTSTAMP:20260421T134207Z
DTSTART:20210201T190000
DTEND:20210201T210000
SUMMARY:Sve što želim
LOCATION:Kino Tuškanac
DESCRIPTION:All I Desire, SAD, 1953 R: Douglas Sirk
END:VEVENT
END:VCALENDAR