BEGIN:VCALENDAR
VERSION:2.0
PRODID:-//Kino Tuškanac//Filmski programi//HR
BEGIN:VEVENT
UID:f047b5b93471c5ff7448b48e0bebf6e8@kinotuskanac.hr
DTSTAMP:20260421T133321Z
DTSTART:20210202T190000
DTEND:20210202T210000
SUMMARY:Potamnjeli anđeli
LOCATION:Kino Tuškanac
DESCRIPTION:The Tarnished Angels, SAD, 1957 R: Douglas Sirk
END:VEVENT
END:VCALENDAR