BEGIN:VCALENDAR
VERSION:2.0
PRODID:-//Kino Tuškanac//Filmski programi//HR
BEGIN:VEVENT
UID:8364f2c03ffaffdf4641f3034158e959@kinotuskanac.hr
DTSTAMP:20260421T134214Z
DTSTART:20210203T190000
DTEND:20210203T210000
SUMMARY:Uvijek postoji sutra
LOCATION:Kino Tuškanac
DESCRIPTION:There's Always Tomorrow, SAD, 1955 R: Douglas Sirk
END:VEVENT
END:VCALENDAR