BEGIN:VCALENDAR
VERSION:2.0
PRODID:-//Kino Tuškanac//Filmski programi//HR
BEGIN:VEVENT
UID:7267401190694e10eb5326ef5a03eccc@kinotuskanac.hr
DTSTAMP:20260423T150327Z
DTSTART:20210218T200000
DTEND:20210218T220000
SUMMARY:Balada o Cableu Hogeu
LOCATION:Kino Tuškanac
DESCRIPTION:The Ballad of Cable Hogue, SAD, 1970 R: Sam Peckinpah
END:VEVENT
END:VCALENDAR