BEGIN:VCALENDAR
VERSION:2.0
PRODID:-//Kino Tuškanac//Filmski programi//HR
BEGIN:VEVENT
UID:afc432c89322ce228a29760c6fe65a8d@kinotuskanac.hr
DTSTAMP:20260423T150709Z
DTSTART:20210219T180000
DTEND:20210219T200000
SUMMARY:Psi od slame
LOCATION:Kino Tuškanac
DESCRIPTION:Straw Dogs, UK, SAD, 1971 R: Sam Peckinpah
END:VEVENT
END:VCALENDAR