BEGIN:VCALENDAR
VERSION:2.0
PRODID:-//Kino Tuškanac//Filmski programi//HR
BEGIN:VEVENT
UID:c400882d4f858abe0fea6d4c27d63131@kinotuskanac.hr
DTSTAMP:20260421T133234Z
DTSTART:20210219T200000
DTEND:20210219T220000
SUMMARY:Pat Garrett i Billy the Kid
LOCATION:Kino Tuškanac
DESCRIPTION:Pat Garrett & Billy the Kid, SAD, 1973 | Mjesto prikazivanja filma: Kulturno informativni centar KIC (Preradovićeva ul. 5) R: Sam Peckinpah
END:VEVENT
END:VCALENDAR