BEGIN:VCALENDAR
VERSION:2.0
PRODID:-//Kino Tuškanac//Filmski programi//HR
BEGIN:VEVENT
UID:1225c218ec299a7051ab1d2d6483cfb7@kinotuskanac.hr
DTSTAMP:20260426T033213Z
DTSTART:20051031T210000
DTEND:20051031T230000
SUMMARY:Sedmi kontinent (1966)
LOCATION:Kino Tuškanac
DESCRIPTION:1966 R: Dušan Vukotić
END:VEVENT
END:VCALENDAR