BEGIN:VCALENDAR
VERSION:2.0
PRODID:-//Kino Tuškanac//Filmski programi//HR
BEGIN:VEVENT
UID:e544b7ead79decd9b76f352f27a499d1@kinotuskanac.hr
DTSTAMP:20260419T141621Z
DTSTART:20210227T180000
DTEND:20210227T200000
SUMMARY:Miris dunja
LOCATION:Kino Tuškanac
DESCRIPTION:Jugoslavija, 1982 R: Mirza Idrizović
END:VEVENT
END:VCALENDAR