BEGIN:VCALENDAR
VERSION:2.0
PRODID:-//Kino Tuškanac//Filmski programi//HR
BEGIN:VEVENT
UID:d6386ef994e16d04f07da1f03ffdf73a@kinotuskanac.hr
DTSTAMP:20260419T141636Z
DTSTART:20210228T190000
DTEND:20210228T210000
SUMMARY:Glembajevi
LOCATION:Kino Tuškanac
DESCRIPTION:Hrvatska, 1988 R: Antun Vrdoljak
END:VEVENT
END:VCALENDAR