BEGIN:VCALENDAR
VERSION:2.0
PRODID:-//Kino Tuškanac//Filmski programi//HR
BEGIN:VEVENT
UID:5f3626fdfdd91b91e998f00e56d9d095@kinotuskanac.hr
DTSTAMP:20260420T130456Z
DTSTART:20210301T190000
DTEND:20210301T210000
SUMMARY:Čovjek bez prošlosti
LOCATION:Kino Tuškanac
DESCRIPTION:Mies vailla menneisyyttä, Finska, Njemačka, Francuska, 2002 R: Aki Kaurismäki
END:VEVENT
END:VCALENDAR