BEGIN:VCALENDAR
VERSION:2.0
PRODID:-//Kino Tuškanac//Filmski programi//HR
BEGIN:VEVENT
UID:47dcacb9f1f83419869a7e3b6e456b51@kinotuskanac.hr
DTSTAMP:20260419T183850Z
DTSTART:20210302T190000
DTEND:20210302T210000
SUMMARY:Zločin i kazna
LOCATION:Kino Tuškanac
DESCRIPTION:Rikos ja rangaistus, Finska, 1983 R: Aki Kaurismäki
END:VEVENT
END:VCALENDAR