BEGIN:VCALENDAR
VERSION:2.0
PRODID:-//Kino Tuškanac//Filmski programi//HR
BEGIN:VEVENT
UID:5008acec4a2cd119e59d9f466f2568eb@kinotuskanac.hr
DTSTAMP:20260423T144641Z
DTSTART:20210303T190000
DTEND:20210303T210000
SUMMARY:Calamari Union
LOCATION:Kino Tuškanac
DESCRIPTION:Finska, 1985 R: Aki Kaurismäki
END:VEVENT
END:VCALENDAR