BEGIN:VCALENDAR
VERSION:2.0
PRODID:-//Kino Tuškanac//Filmski programi//HR
BEGIN:VEVENT
UID:c2c35a2bb24f70574d26376832a0687a@kinotuskanac.hr
DTSTAMP:20260421T035519Z
DTSTART:20210303T210000
DTEND:20210303T230000
SUMMARY:Hamlet se okreće biznisu
LOCATION:Kino Tuškanac
DESCRIPTION:Hamlet liikemaailmassa, Finska, 1987 R: Aki Kaurismäki
END:VEVENT
END:VCALENDAR