BEGIN:VCALENDAR
VERSION:2.0
PRODID:-//Kino Tuškanac//Filmski programi//HR
BEGIN:VEVENT
UID:2e0ff35068a494c7ad2f43e4ca3b7cb6@kinotuskanac.hr
DTSTAMP:20260420T132003Z
DTSTART:20210305T190000
DTEND:20210305T210000
SUMMARY:Sjenke u raju
LOCATION:Kino Tuškanac
DESCRIPTION:Varjoja paratiisissa, Finska, 1986 R: Aki Kaurismäki
END:VEVENT
END:VCALENDAR