BEGIN:VCALENDAR
VERSION:2.0
PRODID:-//Kino Tuškanac//Filmski programi//HR
BEGIN:VEVENT
UID:f409b3b48a13f371cb1def64e8136729@kinotuskanac.hr
DTSTAMP:20260422T101140Z
DTSTART:20210306T210000
DTEND:20210306T230000
SUMMARY:Plutajući oblaci
LOCATION:Kino Tuškanac
DESCRIPTION:Kauas pilvet karkaavat, Finska, Njemačka, Francuska, 1996 R: Aki Kaurismäki
END:VEVENT
END:VCALENDAR