BEGIN:VCALENDAR
VERSION:2.0
PRODID:-//Kino Tuškanac//Filmski programi//HR
BEGIN:VEVENT
UID:8c2d872d2df85883570516380e3bdafe@kinotuskanac.hr
DTSTAMP:20260423T111246Z
DTSTART:20020312T190000
DTEND:20020312T210000
SUMMARY:Kardiogram
LOCATION:Kino Tuškanac
DESCRIPTION:1971 R: Roman Zaluski
END:VEVENT
END:VCALENDAR