BEGIN:VCALENDAR
VERSION:2.0
PRODID:-//Kino Tuškanac//Filmski programi//HR
BEGIN:VEVENT
UID:31f568f02e4fc615a1604c642ef91583@kinotuskanac.hr
DTSTAMP:20260425T015920Z
DTSTART:20051122T210000
DTEND:20051122T230000
SUMMARY:Lisice
LOCATION:Kino Tuškanac
DESCRIPTION:Jugoslavija, Jadran film, 1970 R: Krsto Papić
END:VEVENT
END:VCALENDAR