BEGIN:VCALENDAR
VERSION:2.0
PRODID:-//Kino Tuškanac//Filmski programi//HR
BEGIN:VEVENT
UID:6828490294c06e17573db98868ba661c@kinotuskanac.hr
DTSTAMP:20260422T084210Z
DTSTART:20210313T190000
DTEND:20210313T210000
SUMMARY:Jahač osvetnik
LOCATION:Kino Tuškanac
DESCRIPTION:Ride Lonesome, SAD, 1959 R: Budd Boetticher
END:VEVENT
END:VCALENDAR