BEGIN:VCALENDAR
VERSION:2.0
PRODID:-//Kino Tuškanac//Filmski programi//HR
BEGIN:VEVENT
UID:5584b9c20353b3ef0d5abc06a6b2f8b9@kinotuskanac.hr
DTSTAMP:20260422T122928Z
DTSTART:20210317T190000
DTEND:20210317T210000
SUMMARY:Strategija pauka
LOCATION:Kino Tuškanac
DESCRIPTION:Strategia del ragno, Italija, 1970 R: Bernardo Bertolucci
END:VEVENT
END:VCALENDAR