BEGIN:VCALENDAR
VERSION:2.0
PRODID:-//Kino Tuškanac//Filmski programi//HR
BEGIN:VEVENT
UID:cd3a082231db07347e8a1be5dd1c7b51@kinotuskanac.hr
DTSTAMP:20260422T214951Z
DTSTART:20210318T190000
DTEND:20210318T210000
SUMMARY:Posljednji kineski car
LOCATION:Kino Tuškanac
DESCRIPTION:The Last Emperor, UK, Italija, Francuska, 1987 R: Bernardo Bertolucci
END:VEVENT
END:VCALENDAR