BEGIN:VCALENDAR
VERSION:2.0
PRODID:-//Kino Tuškanac//Filmski programi//HR
BEGIN:VEVENT
UID:baca5016f65f761354da4ad6ca692382@kinotuskanac.hr
DTSTAMP:20260422T180658Z
DTSTART:20210319T190000
DTEND:20210319T210000
SUMMARY:Posljednji tango u Parizu
LOCATION:Kino Tuškanac
DESCRIPTION:L' ultimo tango a Parigi, Francuska, Italija, 1972 R: Bernardo Bertolucci
END:VEVENT
END:VCALENDAR