BEGIN:VCALENDAR
VERSION:2.0
PRODID:-//Kino Tuškanac//Filmski programi//HR
BEGIN:VEVENT
UID:df232eb41500766f62831f7c154e7a77@kinotuskanac.hr
DTSTAMP:20260422T140908Z
DTSTART:20210322T190000
DTEND:20210322T210000
SUMMARY:Mjesec
LOCATION:Kino Tuškanac
DESCRIPTION:La luna, Italija, 1979 R: Bernardo Bertolucci
END:VEVENT
END:VCALENDAR