BEGIN:VCALENDAR
VERSION:2.0
PRODID:-//Kino Tuškanac//Filmski programi//HR
BEGIN:VEVENT
UID:12258267abb41154c4d16c6d6cc4fa44@kinotuskanac.hr
DTSTAMP:20260425T015639Z
DTSTART:20210323T190000
DTEND:20210323T210000
SUMMARY:Prije revolucije
LOCATION:Kino Tuškanac
DESCRIPTION:Prima della rivoluzione, Italija, 1964 R: Bernardo Bertolucci
END:VEVENT
END:VCALENDAR