BEGIN:VCALENDAR
VERSION:2.0
PRODID:-//Kino Tuškanac//Filmski programi//HR
BEGIN:VEVENT
UID:51971dc1f5c3fa89e6e94f54f8b07af3@kinotuskanac.hr
DTSTAMP:20260424T233645Z
DTSTART:20210323T210000
DTEND:20210323T230000
SUMMARY:Sanjari
LOCATION:Kino Tuškanac
DESCRIPTION:The Dreamers, Francuska, Italija, UK, 2003 | Mjesto prikazivanja filma: Kino Forum (SD Stjepan Radić, Jarunska ul. 2) R: Bernardo Bertolucci
END:VEVENT
END:VCALENDAR