BEGIN:VCALENDAR
VERSION:2.0
PRODID:-//Kino Tuškanac//Filmski programi//HR
BEGIN:VEVENT
UID:29965ecca6c14346e565ae48661acfe3@kinotuskanac.hr
DTSTAMP:20260419T205837Z
DTSTART:20210324T190000
DTEND:20210324T210000
SUMMARY:U Boweryju
LOCATION:Kino Tuškanac
DESCRIPTION:On the Bowery, SAD, 1956 R: Lionel Rogosin
END:VEVENT
END:VCALENDAR