BEGIN:VCALENDAR
VERSION:2.0
PRODID:-//Kino Tuškanac//Filmski programi//HR
BEGIN:VEVENT
UID:d18a792eac4827f15041b4c1ae0babf1@kinotuskanac.hr
DTSTAMP:20260422T170609Z
DTSTART:20210325T190000
DTEND:20210325T210000
SUMMARY:Vrati se, Afriko!
LOCATION:Kino Tuškanac
DESCRIPTION:Come Back Africa, SAD, 1959 R: Lionel Rogosin
END:VEVENT
END:VCALENDAR