BEGIN:VCALENDAR
VERSION:2.0
PRODID:-//Kino Tuškanac//Filmski programi//HR
BEGIN:VEVENT
UID:3703900369942f253d1263a09a31e033@kinotuskanac.hr
DTSTAMP:20260423T113452Z
DTSTART:20210325T210000
DTEND:20210325T230000
SUMMARY:Crni korijeni
LOCATION:Kino Tuškanac
DESCRIPTION:Black Roots, Zapadna Njemačka, Švedska, SAD, 1970 R: Lionel Rogosin
END:VEVENT
END:VCALENDAR