BEGIN:VCALENDAR
VERSION:2.0
PRODID:-//Kino Tuškanac//Filmski programi//HR
BEGIN:VEVENT
UID:83d60eefa0e1cb257b759619785c0ffc@kinotuskanac.hr
DTSTAMP:20260421T222105Z
DTSTART:20210311T170000
DTEND:20210311T190000
SUMMARY:Nun of Your Business
LOCATION:Kino Tuškanac
DESCRIPTION:Hrvatska, Srbija, 2020 R: Ivana Marinić Kragić
END:VEVENT
END:VCALENDAR