BEGIN:VCALENDAR
VERSION:2.0
PRODID:-//Kino Tuškanac//Filmski programi//HR
BEGIN:VEVENT
UID:f25ddeaa5c80ebbbaa83124c2280df47@kinotuskanac.hr
DTSTAMP:20260421T221839Z
DTSTART:20210313T170000
DTEND:20210313T190000
SUMMARY:Nun of Your Business
LOCATION:Kino Tuškanac
DESCRIPTION:Hrvatska, Srbija, 2020 R: Ivana Marinić Kragić
END:VEVENT
END:VCALENDAR