BEGIN:VCALENDAR
VERSION:2.0
PRODID:-//Kino Tuškanac//Filmski programi//HR
BEGIN:VEVENT
UID:4f911a9a31dcd581bf0228e9d4d026c0@kinotuskanac.hr
DTSTAMP:20260421T222305Z
DTSTART:20210325T170000
DTEND:20210325T190000
SUMMARY:Nun of Your Business
LOCATION:Kino Tuškanac
DESCRIPTION:Hrvatska, Srbija, 2020 R: Ivana Marinić Kragić
END:VEVENT
END:VCALENDAR