BEGIN:VCALENDAR
VERSION:2.0
PRODID:-//Kino Tuškanac//Filmski programi//HR
BEGIN:VEVENT
UID:c449d3c7da590ece85911da7a1c56d6e@kinotuskanac.hr
DTSTAMP:20260421T222304Z
DTSTART:20210327T170000
DTEND:20210327T190000
SUMMARY:Nun of Your Business
LOCATION:Kino Tuškanac
DESCRIPTION:Hrvatska, Srbija, 2020 R: Ivana Marinić Kragić
END:VEVENT
END:VCALENDAR