BEGIN:VCALENDAR
VERSION:2.0
PRODID:-//Kino Tuškanac//Filmski programi//HR
BEGIN:VEVENT
UID:6afea24885f123409a92dcc4f29abbdb@kinotuskanac.hr
DTSTAMP:20260419T141806Z
DTSTART:20210329T210000
DTEND:20210329T230000
SUMMARY:Za sreću je potrebno troje
LOCATION:Kino Tuškanac
DESCRIPTION:Hrvatska, Jugoslavija, 1985 R: Rajko Grlić
END:VEVENT
END:VCALENDAR