BEGIN:VCALENDAR
VERSION:2.0
PRODID:-//Kino Tuškanac//Filmski programi//HR
BEGIN:VEVENT
UID:5f0d247d32cda56457635a82afc85a71@kinotuskanac.hr
DTSTAMP:20260423T115225Z
DTSTART:20210412T190000
DTEND:20210412T210000
SUMMARY:Krvnik
LOCATION:Kino Tuškanac
DESCRIPTION:El verdugo, Španjolska, Italija, 1963 R: Luis García Berlanga
END:VEVENT
END:VCALENDAR