BEGIN:VCALENDAR
VERSION:2.0
PRODID:-//Kino Tuškanac//Filmski programi//HR
BEGIN:VEVENT
UID:d9627f07c6890d201db54033b0d3bb83@kinotuskanac.hr
DTSTAMP:20260419T225606Z
DTSTART:20210417T210000
DTEND:20210417T230000
SUMMARY:Čovjek iz Londona
LOCATION:Kino Tuškanac
DESCRIPTION:A londoni férfi, Mađarska, Njemačka, Francuska, Italija, 2007 R: Béla Tarr
END:VEVENT
END:VCALENDAR