BEGIN:VCALENDAR
VERSION:2.0
PRODID:-//Kino Tuškanac//Filmski programi//HR
BEGIN:VEVENT
UID:da66f9b344b462413f8b4525b7d164a3@kinotuskanac.hr
DTSTAMP:20260423T143822Z
DTSTART:20210418T150000
DTEND:20210418T170000
SUMMARY:Sotonski tango
LOCATION:Kino Tuškanac
DESCRIPTION:Sátántangó, Mađarska, Njemačka, Švicarska, 1994 R: Béla Tarr
END:VEVENT
END:VCALENDAR