BEGIN:VCALENDAR
VERSION:2.0
PRODID:-//Kino Tuškanac//Filmski programi//HR
BEGIN:VEVENT
UID:fccadf9b8468cf1b9f451f267a4c8fe9@kinotuskanac.hr
DTSTAMP:20260420T114930Z
DTSTART:20210420T210000
DTEND:20210420T230000
SUMMARY:Autsajder
LOCATION:Kino Tuškanac
DESCRIPTION:Szabadgyalog, Mađarska, 1981 R: Béla Tarr
END:VEVENT
END:VCALENDAR