BEGIN:VCALENDAR
VERSION:2.0
PRODID:-//Kino Tuškanac//Filmski programi//HR
BEGIN:VEVENT
UID:527ca8f10d4394c0882a60d1e2b8b79b@kinotuskanac.hr
DTSTAMP:20260421T221715Z
DTSTART:20210415T170000
DTEND:20210415T190000
SUMMARY:Nun of Your Business
LOCATION:Kino Tuškanac
DESCRIPTION:Hrvatska, Srbija, 2020 R: Ivana Marinić Kragić
END:VEVENT
END:VCALENDAR