BEGIN:VCALENDAR
VERSION:2.0
PRODID:-//Kino Tuškanac//Filmski programi//HR
BEGIN:VEVENT
UID:840b12e28d408fea76c9ccb4231e3fbd@kinotuskanac.hr
DTSTAMP:20260421T221850Z
DTSTART:20210416T170000
DTEND:20210416T190000
SUMMARY:Nun of Your Business
LOCATION:Kino Tuškanac
DESCRIPTION:Hrvatska, Srbija, 2020 R: Ivana Marinić Kragić
END:VEVENT
END:VCALENDAR