BEGIN:VCALENDAR
VERSION:2.0
PRODID:-//Kino Tuškanac//Filmski programi//HR
BEGIN:VEVENT
UID:98c39b9c2344337becb2411975387eba@kinotuskanac.hr
DTSTAMP:20260421T222045Z
DTSTART:20210417T170000
DTEND:20210417T190000
SUMMARY:Nun of Your Business
LOCATION:Kino Tuškanac
DESCRIPTION:Hrvatska, Srbija, 2020 R: Ivana Marinić Kragić
END:VEVENT
END:VCALENDAR