BEGIN:VCALENDAR
VERSION:2.0
PRODID:-//Kino Tuškanac//Filmski programi//HR
BEGIN:VEVENT
UID:629c89ca8b1ac827c4299e0223bf1ca7@kinotuskanac.hr
DTSTAMP:20260423T113453Z
DTSTART:20210425T190000
DTEND:20210425T210000
SUMMARY:Razbojnici, poglavlje VII
LOCATION:Kino Tuškanac
DESCRIPTION:Brigands, chapitre VII, Gruzija, Francuska, Rusija, Italija, Švicarska, 1996 R: Otar Iosseliani
END:VEVENT
END:VCALENDAR