BEGIN:VCALENDAR
VERSION:2.0
PRODID:-//Kino Tuškanac//Filmski programi//HR
BEGIN:VEVENT
UID:2cdd5bfebe35eec0627d4e9ac764626b@kinotuskanac.hr
DTSTAMP:20260425T202448Z
DTSTART:20210510T190000
DTEND:20210510T210000
SUMMARY:Kleopatra
LOCATION:Kino Tuškanac
DESCRIPTION:Cleopatra, Švicarska, UK, SAD, 1963 R: Joseph L. Mankiewicz
END:VEVENT
END:VCALENDAR