BEGIN:VCALENDAR
VERSION:2.0
PRODID:-//Kino Tuškanac//Filmski programi//HR
BEGIN:VEVENT
UID:601ff1ae6238bd49f2bbb68d245ceaeb@kinotuskanac.hr
DTSTAMP:20260422T061342Z
DTSTART:20210518T190000
DTEND:20210518T210000
SUMMARY:Uho
LOCATION:Kino Tuškanac
DESCRIPTION:Ucho, Čehoslovačka, 1970 R: Karel Kachyňa
END:VEVENT
END:VCALENDAR