BEGIN:VCALENDAR
VERSION:2.0
PRODID:-//Kino Tuškanac//Filmski programi//HR
BEGIN:VEVENT
UID:8a3e73d075ea9cde5fe048a2765e604b@kinotuskanac.hr
DTSTAMP:20260424T170212Z
DTSTART:20210524T190000
DTEND:20210524T210000
SUMMARY:Lawrence od Arabije
LOCATION:Kino Tuškanac
DESCRIPTION:Lawrence of Arabia, UK, 1962 R: David Lean
END:VEVENT
END:VCALENDAR