BEGIN:VCALENDAR
VERSION:2.0
PRODID:-//Kino Tuškanac//Filmski programi//HR
BEGIN:VEVENT
UID:5eb03fba7a974243e3644b4aa785eacc@kinotuskanac.hr
DTSTAMP:20260419T141635Z
DTSTART:20210529T190000
DTEND:20210529T210000
SUMMARY:Oliver Twist
LOCATION:Kino Tuškanac
DESCRIPTION:UK, 1948 R: David Lean
END:VEVENT
END:VCALENDAR