BEGIN:VCALENDAR
VERSION:2.0
PRODID:-//Kino Tuškanac//Filmski programi//HR
BEGIN:VEVENT
UID:c16bcaf48ba64001ffd418a9fc66375c@kinotuskanac.hr
DTSTAMP:20260426T023211Z
DTSTART:20210520T210000
DTEND:20210520T230000
SUMMARY:15. VFF: Rated X | Morgana
LOCATION:Kino Tuškanac
DESCRIPTION:
END:VEVENT
END:VCALENDAR